BEGIN:VCALENDAR
VERSION:2.0
PRODID:-//Landy Landinger - Gitarrenunterricht München - ECPv6.15.20//NONSGML v1.0//EN
CALSCALE:GREGORIAN
METHOD:PUBLISH
X-WR-CALNAME:Landy Landinger - Gitarrenunterricht München
X-ORIGINAL-URL:https://landy-landinger.de
X-WR-CALDESC:Veranstaltungen für Landy Landinger - Gitarrenunterricht München
REFRESH-INTERVAL;VALUE=DURATION:PT1H
X-Robots-Tag:noindex
X-PUBLISHED-TTL:PT1H
BEGIN:VTIMEZONE
TZID:Europe/Paris
BEGIN:DAYLIGHT
TZOFFSETFROM:+0100
TZOFFSETTO:+0200
TZNAME:CEST
DTSTART:20250330T010000
END:DAYLIGHT
BEGIN:STANDARD
TZOFFSETFROM:+0200
TZOFFSETTO:+0100
TZNAME:CET
DTSTART:20251026T010000
END:STANDARD
BEGIN:DAYLIGHT
TZOFFSETFROM:+0100
TZOFFSETTO:+0200
TZNAME:CEST
DTSTART:20260329T010000
END:DAYLIGHT
BEGIN:STANDARD
TZOFFSETFROM:+0200
TZOFFSETTO:+0100
TZNAME:CET
DTSTART:20261025T010000
END:STANDARD
BEGIN:DAYLIGHT
TZOFFSETFROM:+0100
TZOFFSETTO:+0200
TZNAME:CEST
DTSTART:20270328T010000
END:DAYLIGHT
BEGIN:STANDARD
TZOFFSETFROM:+0200
TZOFFSETTO:+0100
TZNAME:CET
DTSTART:20271031T010000
END:STANDARD
END:VTIMEZONE
BEGIN:VEVENT
DTSTART;TZID=Europe/Paris:20260130T190000
DTEND;TZID=Europe/Paris:20260130T230000
DTSTAMP:20260421T131348
CREATED:20260112T114818Z
LAST-MODIFIED:20260118T095036Z
UID:1479-1769799600-1769814000@landy-landinger.de
SUMMARY:Otto Göttlers DIATONIkS - Unterschleißheim
DESCRIPTION:ELEKTRISCHE VOLKSMUSIK – HALTUNG ZEIGEN\n– Schnell – Stark – mit Strom – \nder Traum von Fairness\, Mitgefühl und humorvollem Miteinander gegen die Verzweifung\, die Illusion\, den Selbstbetrug – „De Zeit\, de ma jetz ham“ – verrückt\, schnell\, absurd. Das tragen die DIATONIkS auf der Bühne aus. Zum Weinen\, zum Lachen\, zum Tanzen. Die große soziale Frage wird aufgemischt mit fetziger Musik\, Volksmusik & Polka\, Blues\, Reggae und Walz. Das Gefühl muss raus\, die Musik wird maßlos um das „System“ abzuschütteln. Otto Göttler\, Landy Landinger und Alfons Helfter ziehen alle Register als musikalischer Katalysator. Mit Überzeugung\, Spaß und Wucht. Kein Blabla! Garantiert.
URL:https://landy-landinger.de/termin/diatoniks-in-unterschleisheim/
LOCATION:Bürgerzentrum Oberschleißheim\, Theodor-Heuss-Straße 29\, Oberschleißheim\, Bayern\, 85764\, Germany
CATEGORIES:DiatoniKs
ATTACH;FMTTYPE=image/jpeg:https://landy-landinger.de/wp-content/uploads/2026/01/haltung-zeigen-kl-768x909-1.jpg
END:VEVENT
BEGIN:VEVENT
DTSTART;TZID=Europe/Paris:20260131T180000
DTEND;TZID=Europe/Paris:20260131T220000
DTSTAMP:20260421T131348
CREATED:20260112T114946Z
LAST-MODIFIED:20260118T094530Z
UID:1482-1769882400-1769896800@landy-landinger.de
SUMMARY:Otto Göttlers DIATONIkS - Essenbach
DESCRIPTION:https://diatoniks.de
URL:https://landy-landinger.de/termin/diatoniks-in-essenbach/
LOCATION:Gasthaus Gremmer\, Nelkenstr. 4\, Ohu\, 84051\, Germany
CATEGORIES:DiatoniKs
ATTACH;FMTTYPE=image/jpeg:https://landy-landinger.de/wp-content/uploads/2026/01/haltung-zeigen-kl-768x909-1.jpg
END:VEVENT
END:VCALENDAR